BEGIN:VCALENDAR
VERSION:2.0
PRODID:-//Office of Research and Sponsored Programs - ECPv6.7.0//NONSGML v1.0//EN
CALSCALE:GREGORIAN
METHOD:PUBLISH
X-WR-CALNAME:Office of Research and Sponsored Programs
X-ORIGINAL-URL:https://researchoffice.newark.rutgers.edu
X-WR-CALDESC:Events for Office of Research and Sponsored Programs
REFRESH-INTERVAL;VALUE=DURATION:PT1H
X-Robots-Tag:noindex
X-PUBLISHED-TTL:PT1H
BEGIN:VTIMEZONE
TZID:UTC
BEGIN:STANDARD
TZOFFSETFROM:+0000
TZOFFSETTO:+0000
TZNAME:UTC
DTSTART:20190101T000000
END:STANDARD
TZID:America/New_York
BEGIN:DAYLIGHT
TZOFFSETFROM:-0500
TZOFFSETTO:-0400
TZNAME:EDT
DTSTART:20200308T070000
END:DAYLIGHT
BEGIN:STANDARD
TZOFFSETFROM:-0400
TZOFFSETTO:-0500
TZNAME:EST
DTSTART:20201101T060000
END:STANDARD
END:VTIMEZONE
BEGIN:VEVENT
DTSTART;TZID=UTC:20200428T130000
DTEND;TZID=UTC:20200428T140000
DTSTAMP:20260424T102933
CREATED:20200422T131109Z
LAST-MODIFIED:20200427T132515Z
UID:1146-1588078800-1588082400@researchoffice.newark.rutgers.edu
SUMMARY:Videocast: Human subjects research on COVID-19
DESCRIPTION:The Office of Human Research Protections (OHRP) will host a videocast on Tuesday\, April 28 from 1:00pm-2:00pm ET to discuss OHRP COVID-19 guidance. The videocast can be viewed at https://videocast.nih.gov/summary.asp?live=37426&bhcp=1.
URL:https://researchoffice.newark.rutgers.edu/event/human-subjects-research-on-covid-19/
LOCATION:Online
END:VEVENT
BEGIN:VEVENT
DTSTART;TZID=UTC:20200424T133000
DTEND;TZID=UTC:20200424T143000
DTSTAMP:20260424T102933
CREATED:20200420T195519Z
LAST-MODIFIED:20200420T195635Z
UID:1140-1587735000-1587738600@researchoffice.newark.rutgers.edu
SUMMARY:RAPSS online training: Awards
DESCRIPTION:This session will offer a high level overview of the Awards module in the RAPSS system and toward the end of the session provide an an open forum/Q&A style of learning and interacting. To register go to the Learning and Development website at https://hrservices.rutgers.edu/crs/\, open the link to Business and Research Administration\, and select the webinar that you want.
URL:https://researchoffice.newark.rutgers.edu/event/1140/
CATEGORIES:Workshop
ORGANIZER;CN="Rosie McCamery":MAILTO:mailto:rosie.mccamery@rutgers.edu
END:VEVENT
BEGIN:VEVENT
DTSTART;TZID=UTC:20200422T133000
DTEND;TZID=UTC:20200422T143000
DTSTAMP:20260424T102933
CREATED:20200420T193121Z
LAST-MODIFIED:20200420T195806Z
UID:1136-1587562200-1587565800@researchoffice.newark.rutgers.edu
SUMMARY:RAPSS Training online: Agreements
DESCRIPTION:This session will offer a high level overview of the Agreement module in the RAPSS and toward the end of the session provide an an open forum/Q&A style of learning and interacting.To register go to the Learning and Development website at https://hrservices.rutgers.edu/crs/\, open the link to Business and Research Administration\, and select the webinar that you want.
URL:https://researchoffice.newark.rutgers.edu/event/rapss-training-online-agreements/
LOCATION:Online through WebEx
ORGANIZER;CN="Rosie McCamery":MAILTO:mailto:rosie.mccamery@rutgers.edu
END:VEVENT
BEGIN:VEVENT
DTSTART;VALUE=DATE:20200415
DTEND;VALUE=DATE:20200416
DTSTAMP:20260424T102933
CREATED:20200327T210557Z
LAST-MODIFIED:20200413T165303Z
UID:1076-1586908800-1586995199@researchoffice.newark.rutgers.edu
SUMMARY:Call for COVID-19 Proposals (internal Rutgers competitive funding opportunity)
DESCRIPTION:The Rutgers Center for COVID-19 Response and Pandemic Preparedness (CCRP2) and the COVID Research Alliance are pleased to announce an intramural funding opportunity for COVID-19 research at Rutgers. \nWe welcome proposals from all departments and institutes across Rutgers University. Proposals are due Monday\, April 15\, 2020. \nThese intramural COVID-19 research grants are intended to build research teams focused on COVID-19 related research\, and provide support for the rapid acquisition of preliminary data and proof-of-concept evidence to support extramural funding applications. \nPlease visit the following website for more information on the scope of research grants and detailed instructions for application preparation and submission: http://njms.rutgers.edu/research/CCRP2/ \nGiven our expertise and the health needs at the state and national levels\, we are excited to announce the establishment of the Center for COVID-19 Response and Pandemic Preparedness (CCRP2) to address SARS CoV-2\, the causative pathogen of COVID-19\, and other emerging pathogen threats. The goal for this center is to serve as an institutional hub for COVID-19 research activities and information dissemination and to support faculty and researchers from across Rutgers University with the common goal of advancing COVID-19 research. \nPlease express your interest in COVID-19 research by completing the following form as soon as conveniently possible: https://bit.ly/3bsTYB8 \n  \n 
URL:https://researchoffice.newark.rutgers.edu/event/call-for-covid-19-proposals-internal-rutgers-competitive-funding-opportunity/
CATEGORIES:Funding Opportunity
ORGANIZER;CN="Office of Research and Sponsored Programs (Rutgers-Newark)":MAILTO:lisaj@newark.rutgers.edu
END:VEVENT
BEGIN:VEVENT
DTSTART;TZID=UTC:20191205T103000
DTEND;TZID=UTC:20191205T123000
DTSTAMP:20260424T102933
CREATED:20191004T170725Z
LAST-MODIFIED:20191004T173039Z
UID:872-1575541800-1575549000@researchoffice.newark.rutgers.edu
SUMMARY:RAPSS Awards: Online Session – WebEx
DESCRIPTION:Registration is required for online sessions. To register\, go to: https://hrservices.rutgers.edu/crs/ \nPlease be sure to register for a preferred session at least 24 hours in advance. If a session lands on a Monday\, please register no later than the Friday before\, by 5pm. Late registrants may be subject to rescheduling for a future session.
URL:https://researchoffice.newark.rutgers.edu/event/rapss-awards-online-session-webex-4/
LOCATION:Online through WebEx
CATEGORIES:Public Events,Workshop
END:VEVENT
BEGIN:VEVENT
DTSTART;TZID=UTC:20191205T090000
DTEND;TZID=UTC:20191205T220000
DTSTAMP:20260424T102933
CREATED:20191004T170550Z
LAST-MODIFIED:20191004T173001Z
UID:870-1575536400-1575583200@researchoffice.newark.rutgers.edu
SUMMARY:RAPSS Agreements: Online Session - WebEx
DESCRIPTION:Registration is required for online sessions. To register\, go to: https://hrservices.rutgers.edu/crs/ \nPlease be sure to register for a preferred session at least 24 hours in advance. If a session lands on a Monday\, please register no later than the Friday before\, by 5pm. Late registrants may be subject to rescheduling for a future session.
URL:https://researchoffice.newark.rutgers.edu/event/rapss-agreements-online-session-webex-4/
LOCATION:Online through WebEx
CATEGORIES:Public Events,Workshop
END:VEVENT
BEGIN:VEVENT
DTSTART;TZID=UTC:20191203T090000
DTEND;TZID=UTC:20191203T120000
DTSTAMP:20260424T102933
CREATED:20191004T164806Z
LAST-MODIFIED:20191010T183739Z
UID:854-1575363600-1575374400@researchoffice.newark.rutgers.edu
SUMMARY:RAPSS Proposal & Endorsement - in-person
DESCRIPTION:Registration is required for both in-person and online sessions. In-person sessions will be held in Hill Hall\, Room 124.  To register\, go to: https://hrservices.rutgers.edu/crs/\nPlease be sure to register for a preferred session at least 24 hours in advance. If a session lands on a Monday\, please register no later than the Friday before\, by 5pm. Late registrants may be subject to rescheduling for a future session.
URL:https://researchoffice.newark.rutgers.edu/event/rapss-proposal-and-endorsement-2/
LOCATION:Hill Hall\, Room 124\, 360 Dr. Martin Luther King Jr. Blvd.\, Newark\, NJ\, United States
CATEGORIES:Public Events,Workshop
END:VEVENT
BEGIN:VEVENT
DTSTART;TZID=UTC:20191115T150000
DTEND;TZID=UTC:20191115T190000
DTSTAMP:20260424T102933
CREATED:20191031T143939Z
LAST-MODIFIED:20191031T160128Z
UID:991-1573830000-1573844400@researchoffice.newark.rutgers.edu
SUMMARY:New York - New Jersey Glia Club
DESCRIPTION:
URL:https://researchoffice.newark.rutgers.edu/event/new-york-new-jersey-glia-club/
LOCATION:Life Sciences Center (LSC) II\, 225 University Avenue\, Newark\, NJ\, 07102\, United States
CATEGORIES:Public Events,Workshop
ORGANIZER;CN="Haesun Kim":MAILTO:haekim@newark.rutgers.edu
END:VEVENT
BEGIN:VEVENT
DTSTART;TZID=UTC:20191111T103000
DTEND;TZID=UTC:20191111T123000
DTSTAMP:20260424T102933
CREATED:20191004T170439Z
LAST-MODIFIED:20191004T172802Z
UID:868-1573468200-1573475400@researchoffice.newark.rutgers.edu
SUMMARY:RAPSS Awards: Online Session – WebEx
DESCRIPTION:Registration is required for online sessions. To register\, go to: https://hrservices.rutgers.edu/crs/ \nPlease be sure to register for a preferred session at least 24 hours in advance. If a session lands on a Monday\, please register no later than the Friday before\, by 5pm. Late registrants may be subject to rescheduling for a future session.
URL:https://researchoffice.newark.rutgers.edu/event/rapss-awards-online-session-webex-3/
LOCATION:Online through WebEx
CATEGORIES:Public Events,Workshop
END:VEVENT
BEGIN:VEVENT
DTSTART;TZID=UTC:20191111T090000
DTEND;TZID=UTC:20191111T100000
DTSTAMP:20260424T102933
CREATED:20191004T170334Z
LAST-MODIFIED:20191004T172731Z
UID:866-1573462800-1573466400@researchoffice.newark.rutgers.edu
SUMMARY:RAPSS Agreements: Online Session - WebEx
DESCRIPTION:Registration is required for online sessions. To register\, go to: https://hrservices.rutgers.edu/crs/ \nPlease be sure to register for a preferred session at least 24 hours in advance. If a session lands on a Monday\, please register no later than the Friday before\, by 5pm. Late registrants may be subject to rescheduling for a future session.
URL:https://researchoffice.newark.rutgers.edu/event/rapss-agreements-online-session-webex-3/
LOCATION:Online through WebEx
CATEGORIES:Public Events,Workshop
END:VEVENT
BEGIN:VEVENT
DTSTART;TZID=UTC:20191107T090000
DTEND;TZID=UTC:20191107T120000
DTSTAMP:20260424T102933
CREATED:20191004T164204Z
LAST-MODIFIED:20191010T183900Z
UID:850-1573117200-1573128000@researchoffice.newark.rutgers.edu
SUMMARY:RAPSS Proposal & Endorsement - in-person
DESCRIPTION:Registration is required for both in-person and online sessions. In-person sessions will be held in Hill Hall\, Room 124 and are highlighted in yellow below. To register\, go to: https://hrservices.rutgers.edu/crs/\nPlease be sure to register for a preferred session at least 24 hours in advance. If a session lands on a Monday\, please register no later than the Friday before\, by 5pm. Late registrants may be subject to rescheduling for a future session.
URL:https://researchoffice.newark.rutgers.edu/event/rapss-proposal-and-endorsement/
LOCATION:Hill Hall\, Room 124\, 360 Dr. Martin Luther King Jr. Blvd.\, Newark\, NJ\, United States
CATEGORIES:Public Events,Workshop
END:VEVENT
BEGIN:VEVENT
DTSTART;TZID=UTC:20191105T120000
DTEND;TZID=UTC:20191105T140000
DTSTAMP:20260424T102933
CREATED:20191028T140527Z
LAST-MODIFIED:20191028T140527Z
UID:983-1572955200-1572962400@researchoffice.newark.rutgers.edu
SUMMARY:GEL Discussion of Human Subjects Research
DESCRIPTION:Dear Members of the Rutgers-Newark Community\, \nOn Tuesday\, November 5\, the Rutgers University – Newark Office of Research and Sponsored Programs (ORSP) will host a discussion of Human Subjects Research lead by Carlotta Rodriguez\, MS\, CIP\, CHRC\, Director\, Institutional Review Board (IRB)-Newark and Letitia Dean\, MPA\, CRA\, Assistant Director\, Office of Research and Sponsored Programs. \nUnderstanding when and how to work IRB and the eIRB system will support the submission of strong proposals and compliant award activities. Human Subject Research includes observational studies\, interview or survey studies\, group comparison studies\, test development and interventional research\, and may also include program evaluation. This would be an excellent opportunity to have your questions and concerns addressed. \nThe meeting is part of the Gather\, Eat\, and Learn (GEL) initiative of the Research Office\, which is a forum for informal discussion\, over lunch\, on topics related to sponsored projects administration (pre/post award and compliance). We will begin at 12:00 noon in Blumenthal Hall\, Room 201. \nSo that we have an accurate count for lunches\, please RSVP to Ms. Lisa Condobery (lisaj@newark.rutgers.edu) and include “GEL meeting” in the subject line. If you have a topic area that you would like to discuss at the meeting\, please include a brief description in your response email. \nWe look forward to learning from you. \n  \nWith best regards\, \nPiotr Piotrowiak \nSenior Vice Chancellor for Research and Collaborations \nRutgers University – Newark
URL:https://researchoffice.newark.rutgers.edu/event/gel-discussion-of-human-subjects-research/
ORGANIZER;CN="Office of Research and Sponsored Programs (Rutgers-Newark)":MAILTO:lisaj@newark.rutgers.edu
END:VEVENT
BEGIN:VEVENT
DTSTART;TZID=UTC:20191028T103000
DTEND;TZID=UTC:20191028T123000
DTSTAMP:20260424T102933
CREATED:20191004T165916Z
LAST-MODIFIED:20191004T172654Z
UID:863-1572258600-1572265800@researchoffice.newark.rutgers.edu
SUMMARY:RAPSS Awards: Online Session - WebEx
DESCRIPTION:Registration is required for online sessions. To register\, go to: https://hrservices.rutgers.edu/crs/ \nPlease be sure to register for a preferred session at least 24 hours in advance. If a session lands on a Monday\, please register no later than the Friday before\, by 5pm. Late registrants may be subject to rescheduling for a future session.
URL:https://researchoffice.newark.rutgers.edu/event/rapss-awards-online-session-webex-2/
LOCATION:Online through WebEx
CATEGORIES:Public Events,Workshop
END:VEVENT
BEGIN:VEVENT
DTSTART;TZID=UTC:20191028T090000
DTEND;TZID=UTC:20191028T220000
DTSTAMP:20260424T102933
CREATED:20191004T165752Z
LAST-MODIFIED:20191004T172924Z
UID:861-1572253200-1572300000@researchoffice.newark.rutgers.edu
SUMMARY:RAPSS Agreements: Online Session - WebEx
DESCRIPTION:Registration is required for online sessions. To register\, go to: https://hrservices.rutgers.edu/crs/ \nPlease be sure to register for a preferred session at least 24 hours in advance. If a session lands on a Monday\, please register no later than the Friday before\, by 5pm. Late registrants may be subject to rescheduling for a future session.
URL:https://researchoffice.newark.rutgers.edu/event/rapss-agreements-online-session-webex-2/
CATEGORIES:Public Events,Workshop
END:VEVENT
BEGIN:VEVENT
DTSTART;TZID=UTC:20191017T103000
DTEND;TZID=UTC:20191017T120000
DTSTAMP:20260424T102933
CREATED:20191004T165144Z
LAST-MODIFIED:20191004T194518Z
UID:856-1571308200-1571313600@researchoffice.newark.rutgers.edu
SUMMARY:RAPSS Awards: Online Session - WebEx
DESCRIPTION:Registration is required for online sessions.  To register\, go to: https://hrservices.rutgers.edu/crs/ \nPlease be sure to register for a preferred session at least 24 hours in advance. If a session lands on a Monday\, please register no later than the Friday before\, by 5pm. Late registrants may be subject to rescheduling for a future session.
URL:https://researchoffice.newark.rutgers.edu/event/rapss-awards-online-session-webex/
LOCATION:Online through WebEx
CATEGORIES:Public Events,Workshop
END:VEVENT
BEGIN:VEVENT
DTSTART;TZID=UTC:20191017T090000
DTEND;TZID=UTC:20191017T220000
DTSTAMP:20260424T102933
CREATED:20191004T165414Z
LAST-MODIFIED:20191004T194431Z
UID:859-1571302800-1571349600@researchoffice.newark.rutgers.edu
SUMMARY:RAPSS Agreements: Online Session - WebEx
DESCRIPTION:Registration is required for online sessions. To register\, go to: https://hrservices.rutgers.edu/crs/ \nPlease be sure to register for a preferred session at least 24 hours in advance. If a session lands on a Monday\, please register no later than the Friday before\, by 5pm. Late registrants may be subject to rescheduling for a future session.
URL:https://researchoffice.newark.rutgers.edu/event/rapss-agreements-online-session-webex/
LOCATION:Online through WebEx
CATEGORIES:Public Events,Workshop
END:VEVENT
BEGIN:VEVENT
DTSTART;TZID=UTC:20191010T100000
DTEND;TZID=UTC:20191010T113000
DTSTAMP:20260424T102933
CREATED:20191007T151354Z
LAST-MODIFIED:20191007T151411Z
UID:880-1570701600-1570707000@researchoffice.newark.rutgers.edu
SUMMARY:The Stewardship of Grants and Contracts: An Inter-active Workshop about Sponsored Projects and Research
DESCRIPTION:Please join us for this workshop designed to answer Frequently Asked Questions for administrators working with external funding from proposal to award including balancing the requirements of individual administrative roles and those of our sponsors\, as well as Department\, School and University policies and procedures.\nWe welcome your questions in advance. Please confirm your attendance\, and send your questions to preaward@newark.rutgers.edu with the subject line: Stewardship of Grants and Contracts before October 7th. Thank you. \nFacilitated by:\nLetitia Dean\, Assistant Director\, Office of Sponsored Programs & Rutgers-Newark Research Office Staff\, and\nMora McLean\, Senior Director of Development\, Rutgers University Foundation-Newark \nRefreshments will be served
URL:https://researchoffice.newark.rutgers.edu/event/the-stewardship-of-grants-and-contracts-an-interactive-workshop-about-sponsored-projects-and-research/
END:VEVENT
BEGIN:VEVENT
DTSTART;TZID=UTC:20191009T120000
DTEND;TZID=UTC:20191009T140000
DTSTAMP:20260424T102933
CREATED:20180627T171702Z
LAST-MODIFIED:20191003T190653Z
UID:321-1570622400-1570629600@researchoffice.newark.rutgers.edu
SUMMARY:New Faculty Welcome reception
DESCRIPTION:
URL:https://researchoffice.newark.rutgers.edu/event/cyber-security-hygiene/
LOCATION:Paul Robeson Campus Center\, Room 256\, Paul Robeson Campus Center\, Room 256
CATEGORIES:Meeting by invitation
ORGANIZER;CN="Office of Research and Sponsored Programs (Rutgers-Newark)":MAILTO:lisaj@newark.rutgers.edu
END:VEVENT
END:VCALENDAR