BEGIN:VCALENDAR
VERSION:2.0
PRODID:-//Office of Research and Sponsored Programs - ECPv6.7.0//NONSGML v1.0//EN
CALSCALE:GREGORIAN
METHOD:PUBLISH
X-WR-CALNAME:Office of Research and Sponsored Programs
X-ORIGINAL-URL:https://researchoffice.newark.rutgers.edu
X-WR-CALDESC:Events for Office of Research and Sponsored Programs
REFRESH-INTERVAL;VALUE=DURATION:PT1H
X-Robots-Tag:noindex
X-PUBLISHED-TTL:PT1H
BEGIN:VTIMEZONE
TZID:UTC
BEGIN:STANDARD
TZOFFSETFROM:+0000
TZOFFSETTO:+0000
TZNAME:UTC
DTSTART:20200101T000000
END:STANDARD
END:VTIMEZONE
BEGIN:VEVENT
DTSTART;TZID=UTC:20200422T133000
DTEND;TZID=UTC:20200422T143000
DTSTAMP:20260423T222220
CREATED:20200420T193121Z
LAST-MODIFIED:20200420T195806Z
UID:1136-1587562200-1587565800@researchoffice.newark.rutgers.edu
SUMMARY:RAPSS Training online: Agreements
DESCRIPTION:This session will offer a high level overview of the Agreement module in the RAPSS and toward the end of the session provide an an open forum/Q&A style of learning and interacting.To register go to the Learning and Development website at https://hrservices.rutgers.edu/crs/\, open the link to Business and Research Administration\, and select the webinar that you want.
URL:https://researchoffice.newark.rutgers.edu/event/rapss-training-online-agreements/
LOCATION:Online through WebEx
ORGANIZER;CN="Rosie McCamery":MAILTO:mailto:rosie.mccamery@rutgers.edu
END:VEVENT
END:VCALENDAR